BEGIN:VCALENDAR
VERSION:2.0
PRODID:-//National Industry Liaison Group - ECPv6.15.20//NONSGML v1.0//EN
CALSCALE:GREGORIAN
METHOD:PUBLISH
X-WR-CALNAME:National Industry Liaison Group
X-ORIGINAL-URL:https://www.nationalilg.org
X-WR-CALDESC:Events for National Industry Liaison Group
REFRESH-INTERVAL;VALUE=DURATION:PT1H
X-Robots-Tag:noindex
X-PUBLISHED-TTL:PT1H
BEGIN:VTIMEZONE
TZID:America/Chicago
BEGIN:DAYLIGHT
TZOFFSETFROM:-0600
TZOFFSETTO:-0500
TZNAME:CDT
DTSTART:20240310T080000
END:DAYLIGHT
BEGIN:STANDARD
TZOFFSETFROM:-0500
TZOFFSETTO:-0600
TZNAME:CST
DTSTART:20241103T070000
END:STANDARD
BEGIN:DAYLIGHT
TZOFFSETFROM:-0600
TZOFFSETTO:-0500
TZNAME:CDT
DTSTART:20250309T080000
END:DAYLIGHT
BEGIN:STANDARD
TZOFFSETFROM:-0500
TZOFFSETTO:-0600
TZNAME:CST
DTSTART:20251102T070000
END:STANDARD
BEGIN:DAYLIGHT
TZOFFSETFROM:-0600
TZOFFSETTO:-0500
TZNAME:CDT
DTSTART:20260308T080000
END:DAYLIGHT
BEGIN:STANDARD
TZOFFSETFROM:-0500
TZOFFSETTO:-0600
TZNAME:CST
DTSTART:20261101T070000
END:STANDARD
END:VTIMEZONE
BEGIN:VEVENT
DTSTART;TZID=America/Chicago:20250909T100000
DTEND;TZID=America/Chicago:20250909T110000
DTSTAMP:20260421T231801
CREATED:20250801T201320Z
LAST-MODIFIED:20250910T162941Z
UID:10000024-1757412000-1757415600@www.nationalilg.org
SUMMARY:Federal Contractor Compliance Updates – What Contractors Need to Know
DESCRIPTION:Join us for a webinar:\nVirtual Only \nAs we approach the nine-month mark of the new Trump Administration\, federal contractors across the country are continuing to adapt to a rapidly evolving landscape of federal labor and employment policy. From regulatory shifts at the OFCCP to new enforcement priorities at the Department of Justice\, the implications of President Trump’s Executive Order 14173 – Ending Illegal Discrimination and Restoring Merit-Based Opportunity are already reshaping how organizations manage risk and envision the future of equal employment opportunity programs. \nJoin us for an interactive roundtable discussion moderated by Meredith Gregston\, featuring NILG Advisory Council members Craig Leen\, Vicki Lipnic\, and Danny Petrella\, who will share their insights on the most recent developments from the Trump Administration\, including: \n• DOJ’s latest guidance on “illegal DEI” practices \n• OFCCP’s proposed changes to E.O. 11246\, Section 503\, and VEVRAA AAP regulations \n• Key considerations in responding to OFCCP’s request that contractors verify they have “wound down” their AAPs \n• Updates on OFCCP’s structure\, staffing\, and its status as a federal civil rights enforcement agency \n• What it means to certify in good faith that your organization complies with federal civil rights laws \nThe panel will take questions throughout the session\, and audience participation is encouraged! \nRecording: https://us06web.zoom.us/rec/share/CgG0JzrXIaI5-TFKjM9mOlrJArYwLJX_IenH4AClxTcNiLJiDwj2mKCnYFaB-8DC.q3gXhNWSz0nHa0Wx?startTime=1757430046000
URL:https://www.nationalilg.org/event/federal-contractor-compliance-updates-what-contractors-need-to-know/
LOCATION:Virtual
CATEGORIES:NILG Events,Past Webinars (WEB ADMIN ONLY PLEASE)
ATTACH;FMTTYPE=image/png:https://www.nationalilg.org/wp-content/uploads/2025/02/Webinarlogo.png
END:VEVENT
END:VCALENDAR