BEGIN:VCALENDAR
VERSION:2.0
PRODID:-//National Industry Liaison Group - ECPv6.15.20//NONSGML v1.0//EN
CALSCALE:GREGORIAN
METHOD:PUBLISH
X-ORIGINAL-URL:https://www.nationalilg.org
X-WR-CALDESC:Events for National Industry Liaison Group
REFRESH-INTERVAL;VALUE=DURATION:PT1H
X-Robots-Tag:noindex
X-PUBLISHED-TTL:PT1H
BEGIN:VTIMEZONE
TZID:UTC
BEGIN:STANDARD
TZOFFSETFROM:+0000
TZOFFSETTO:+0000
TZNAME:UTC
DTSTART:20250101T000000
END:STANDARD
END:VTIMEZONE
BEGIN:VEVENT
DTSTART;TZID=UTC:20260714T100000
DTEND;TZID=UTC:20260714T110000
DTSTAMP:20260419T202950
CREATED:20260313T155815Z
LAST-MODIFIED:20260316T174755Z
UID:10000042-1784023200-1784026800@www.nationalilg.org
SUMMARY:Save-the-date: AI
DESCRIPTION:Save-the-date! Details coming soon.\nVirtual Only \n\nREGISTER NOW >>
URL:https://www.nationalilg.org/event/save-the-date-ai/
CATEGORIES:Current Webinars (WEB ADMIN ONLY PLEASE),NILG Events
ATTACH;FMTTYPE=image/png:https://www.nationalilg.org/wp-content/uploads/2026/01/Save-the-date-webinar.png
END:VEVENT
END:VCALENDAR