BEGIN:VCALENDAR
VERSION:2.0
PRODID:-//National Industry Liaison Group - ECPv6.15.20//NONSGML v1.0//EN
CALSCALE:GREGORIAN
METHOD:PUBLISH
X-WR-CALNAME:National Industry Liaison Group
X-ORIGINAL-URL:https://www.nationalilg.org
X-WR-CALDESC:Events for National Industry Liaison Group
REFRESH-INTERVAL;VALUE=DURATION:PT1H
X-Robots-Tag:noindex
X-PUBLISHED-TTL:PT1H
BEGIN:VTIMEZONE
TZID:America/Chicago
BEGIN:DAYLIGHT
TZOFFSETFROM:-0600
TZOFFSETTO:-0500
TZNAME:CDT
DTSTART:20250309T080000
END:DAYLIGHT
BEGIN:STANDARD
TZOFFSETFROM:-0500
TZOFFSETTO:-0600
TZNAME:CST
DTSTART:20251102T070000
END:STANDARD
BEGIN:DAYLIGHT
TZOFFSETFROM:-0600
TZOFFSETTO:-0500
TZNAME:CDT
DTSTART:20260308T080000
END:DAYLIGHT
BEGIN:STANDARD
TZOFFSETFROM:-0500
TZOFFSETTO:-0600
TZNAME:CST
DTSTART:20261101T070000
END:STANDARD
BEGIN:DAYLIGHT
TZOFFSETFROM:-0600
TZOFFSETTO:-0500
TZNAME:CDT
DTSTART:20270314T080000
END:DAYLIGHT
BEGIN:STANDARD
TZOFFSETFROM:-0500
TZOFFSETTO:-0600
TZNAME:CST
DTSTART:20271107T070000
END:STANDARD
END:VTIMEZONE
BEGIN:VEVENT
DTSTART;TZID=America/Chicago:20260609T100000
DTEND;TZID=America/Chicago:20260609T113000
DTSTAMP:20260419T185436
CREATED:20260112T201608Z
LAST-MODIFIED:20260316T172213Z
UID:10000036-1780999200-1781004600@www.nationalilg.org
SUMMARY:Save-the-date: Mid-Year Update (90-minutes) with Bill Doyle\, Nita Beecher\, and David Cohen\, moderated by Sheila Abron
DESCRIPTION:Save-the-date! Details coming soon.\nVirtual Only \n\nREGISTER NOW >>
URL:https://www.nationalilg.org/event/save-the-date-mid-year-update-90-minutes-with-bill-doyle-nita-beecher-and-david-cohen-moderated-by-sheila-abron/
LOCATION:Virtual
CATEGORIES:Current Webinars (WEB ADMIN ONLY PLEASE),NILG Events
ATTACH;FMTTYPE=image/png:https://www.nationalilg.org/wp-content/uploads/2026/01/Save-the-date-webinar.png
END:VEVENT
END:VCALENDAR