BEGIN:VCALENDAR
VERSION:2.0
PRODID:-//National Industry Liaison Group - ECPv6.15.20//NONSGML v1.0//EN
CALSCALE:GREGORIAN
METHOD:PUBLISH
X-WR-CALNAME:National Industry Liaison Group
X-ORIGINAL-URL:https://www.nationalilg.org
X-WR-CALDESC:Events for National Industry Liaison Group
REFRESH-INTERVAL;VALUE=DURATION:PT1H
X-Robots-Tag:noindex
X-PUBLISHED-TTL:PT1H
BEGIN:VTIMEZONE
TZID:America/Chicago
BEGIN:DAYLIGHT
TZOFFSETFROM:-0600
TZOFFSETTO:-0500
TZNAME:CDT
DTSTART:20250309T080000
END:DAYLIGHT
BEGIN:STANDARD
TZOFFSETFROM:-0500
TZOFFSETTO:-0600
TZNAME:CST
DTSTART:20251102T070000
END:STANDARD
BEGIN:DAYLIGHT
TZOFFSETFROM:-0600
TZOFFSETTO:-0500
TZNAME:CDT
DTSTART:20260308T080000
END:DAYLIGHT
BEGIN:STANDARD
TZOFFSETFROM:-0500
TZOFFSETTO:-0600
TZNAME:CST
DTSTART:20261101T070000
END:STANDARD
BEGIN:DAYLIGHT
TZOFFSETFROM:-0600
TZOFFSETTO:-0500
TZNAME:CDT
DTSTART:20270314T080000
END:DAYLIGHT
BEGIN:STANDARD
TZOFFSETFROM:-0500
TZOFFSETTO:-0600
TZNAME:CST
DTSTART:20271107T070000
END:STANDARD
END:VTIMEZONE
BEGIN:VEVENT
DTSTART;TZID=America/Chicago:20260512T100000
DTEND;TZID=America/Chicago:20260512T110000
DTSTAMP:20260419T165756
CREATED:20260112T201258Z
LAST-MODIFIED:20260323T175634Z
UID:10000035-1778580000-1778583600@www.nationalilg.org
SUMMARY:Workplace Investigations: Are You Ready to Investigate in the New Age of Employee Complaints?
DESCRIPTION:Join us for a webinar:\nVirtual Only \nInvestigations of work-related issues have become more frequent and critical in recent years. In this interactive session\, the speaker will discuss emerging trends in workplace investigations\, including the challenges of remote work environments and the impact of AI and deepfakes. Additionally\, the speaker will present hypothetical scenarios to highlight common mistakes made during investigations.\nSpeaker: Tiffany Stacy\n\nREGISTER NOW >>
URL:https://www.nationalilg.org/event/save-the-date-hr-investigations-best-practices/
LOCATION:Virtual
CATEGORIES:Current Webinars (WEB ADMIN ONLY PLEASE),NILG Events
ATTACH;FMTTYPE=image/png:https://www.nationalilg.org/wp-content/uploads/2025/02/Webinarlogo.png
END:VEVENT
END:VCALENDAR