BEGIN:VCALENDAR
VERSION:2.0
PRODID:-//National Industry Liaison Group - ECPv6.15.20//NONSGML v1.0//EN
CALSCALE:GREGORIAN
METHOD:PUBLISH
X-ORIGINAL-URL:https://www.nationalilg.org
X-WR-CALDESC:Events for National Industry Liaison Group
REFRESH-INTERVAL;VALUE=DURATION:PT1H
X-Robots-Tag:noindex
X-PUBLISHED-TTL:PT1H
BEGIN:VTIMEZONE
TZID:UTC
BEGIN:STANDARD
TZOFFSETFROM:+0000
TZOFFSETTO:+0000
TZNAME:UTC
DTSTART:20250101T000000
END:STANDARD
END:VTIMEZONE
BEGIN:VEVENT
DTSTART;TZID=UTC:20261208T110000
DTEND;TZID=UTC:20261208T123000
DTSTAMP:20260420T025522
CREATED:20260316T173833Z
LAST-MODIFIED:20260316T173833Z
UID:10000045-1796727600-1796733000@www.nationalilg.org
SUMMARY:The Ballot and the Break Room: Midterm Elections and the Future of Workplace Policy
DESCRIPTION:Join us for a webinar:\nVirtual Only \n\nThe 2026 midterm elections promised to be a defining moment for federal employment policy. With Republicans holding narrow majorities in both chambers of Congress—Democrats needing just three House seats and four Senate seats to flip control—the stakes could not have been higher. Now\, immediately following this pivotal election\, this dynamic panel discussion will bring together leading practitioners and policy experts to analyze the results and their implications for the Trump administration’s employment policy agenda for the remainder of its term.\nOur distinguished panelists will assess the administration’s employment policy track record to date—including the rescission of the Biden-era independent contractor rule\, the return to the 2020 joint employer standard at the NLRB\, and aggressive enforcement efforts targeting workplace DEI initiatives. With the EEOC now operating with a Republican majority and quorum restored\, and new leadership firmly in place at all key Department of Labor agencies\, the discussion will examine how the election results position the administration’s agenda going forward and what the new congressional composition means for the trajectory of federal labor policy. \nAttendees will gain critical insights into how the election results will impact the administration’s enforcement priorities on hot-button issues such as alleged “illegal DEI” in the workplace\, restrictions on non-compete agreements at the state level\, the ongoing debate over federal paid leave\, union organizing activity in light of executive orders curtailing federal employee collective bargaining rights\, and evolving AI-in-employment compliance requirements. The panel will also assess the election’s influence on legislative initiatives\, agency rulemaking\, and the broader trajectory of employment law. \nWhether you represent employers navigating an evolving compliance landscape or advise clients on workforce strategy\, this session will equip you with the practical knowledge and forward-looking perspective needed to anticipate change and counsel stakeholders effectively. Join us for a timely and thought-provoking conversation on the intersection of electoral politics and workplace policy as we decode the implications of this pivotal election. \n\nSpeakers: David Cohen\, Nita Beecher\, Vicki Lipnic\, and Danny Petrella\n\n\nREGISTER NOW >>
URL:https://www.nationalilg.org/event/the-ballot-and-the-break-room-midterm-elections-and-the-future-of-workplace-policy/
CATEGORIES:Current Webinars (WEB ADMIN ONLY PLEASE),NILG Events
ATTACH;FMTTYPE=image/png:https://www.nationalilg.org/wp-content/uploads/2025/02/Webinarlogo.png
END:VEVENT
END:VCALENDAR