BEGIN:VCALENDAR
VERSION:2.0
PRODID:-//National Industry Liaison Group - ECPv6.15.20//NONSGML v1.0//EN
CALSCALE:GREGORIAN
METHOD:PUBLISH
X-ORIGINAL-URL:https://www.nationalilg.org
X-WR-CALDESC:Events for National Industry Liaison Group
REFRESH-INTERVAL;VALUE=DURATION:PT1H
X-Robots-Tag:noindex
X-PUBLISHED-TTL:PT1H
BEGIN:VTIMEZONE
TZID:UTC
BEGIN:STANDARD
TZOFFSETFROM:+0000
TZOFFSETTO:+0000
TZNAME:UTC
DTSTART:20240101T000000
END:STANDARD
END:VTIMEZONE
BEGIN:VEVENT
DTSTART;TZID=UTC:20251105T103000
DTEND;TZID=UTC:20251105T114500
DTSTAMP:20260421T233428
CREATED:20251024T202454Z
LAST-MODIFIED:20251201T181247Z
UID:10000027-1762338600-1762343100@www.nationalilg.org
SUMMARY:Space Coast ILG Meeting
DESCRIPTION:Please join us for a virtual Space Coast ILG meeting on Wednesday\, November 5\, 2025 from 11:30am-12:45pm Eastern. \nIn the more than nine months since inauguration\, there has been a lot of activity affecting the employment obligations of federal government contractors. This presentation from Roffman Horvitz will summarize that activity and address recent developments\, including how the False Claims Act impacts federal contractor certification\, and what employers should be doing to get ahead of it. \nAbout the Speakers\nAlissa A. Horvitz is a Member Attorney and co-founder of Roffman Horvitz\, PLC. Alissa has been advising employers for more than 35 years. She has deep experience in advising clients regarding inclusion and diversity programs\, federal contractor employment regulations\, and analysis of employment data. Alissa particularly enjoys conducting live and web-based training on various employment topics\, including lawful inclusion and training programs\, applicant tracking\, and regulatory compliance. \nJoshua S. Roffman is the Managing Attorney and co-founder of Roffman Horvitz\, PLC. Josh has been advising employers for more than 20 years. He has deep experience in advising clients regarding pay equity\, inclusion and diversity programs\, federal contractor employment regulations\, and analysis of employment data. Josh combines his understanding of employment law\, statistics\, and how businesses and organizations operate to develop regressions and other statistical analyses of various employment practices\, including compensation\, that are tailored to the specific goals and circumstances of the individual client. Josh works closely with his clients to assess how best to run the analyses\, which he and the Firm run in-house. \nJames M. McCauley is an Associate Attorney at Roffman Horvitz\, PLC. For over six years\, James has been advising clients regarding pay equity\, inclusion and diversity programs\, federal contractor employment regulations\, and analysis of employment data. e advises clients on employee data reporting for regulatory authorities\, equal opportunity program development\, and a wide range of other workforce data initiatives. He develops strategic partnerships with organizations to assess compliance requirements\, identify business objectives\, and leverage employee information systems. \nHope you will be able to join us! \n  \nTo register\, please email JAIME.SHIH@L3HARRIS.COM by Noon Eastern November 3\, 2025\, to receive the meeting link.
URL:https://www.nationalilg.org/event/space-coast-ilg-meeting/
LOCATION:Virtual
CATEGORIES:CALENDAR SUBMISSIONS,Greater ILGs & Partnership - Event Calendar,Past Webinars (WEB ADMIN ONLY PLEASE)
ATTACH;FMTTYPE=image/jpeg:https://www.nationalilg.org/wp-content/uploads/2025/10/qtq80-PZPsgb-scaled.jpeg
END:VEVENT
END:VCALENDAR