BEGIN:VCALENDAR
VERSION:2.0
PRODID:-//National Industry Liaison Group - ECPv6.15.20//NONSGML v1.0//EN
CALSCALE:GREGORIAN
METHOD:PUBLISH
X-WR-CALNAME:National Industry Liaison Group
X-ORIGINAL-URL:https://www.nationalilg.org
X-WR-CALDESC:Events for National Industry Liaison Group
REFRESH-INTERVAL;VALUE=DURATION:PT1H
X-Robots-Tag:noindex
X-PUBLISHED-TTL:PT1H
BEGIN:VTIMEZONE
TZID:America/New_York
BEGIN:DAYLIGHT
TZOFFSETFROM:-0500
TZOFFSETTO:-0400
TZNAME:EDT
DTSTART:20250309T070000
END:DAYLIGHT
BEGIN:STANDARD
TZOFFSETFROM:-0400
TZOFFSETTO:-0500
TZNAME:EST
DTSTART:20251102T060000
END:STANDARD
BEGIN:DAYLIGHT
TZOFFSETFROM:-0500
TZOFFSETTO:-0400
TZNAME:EDT
DTSTART:20260308T070000
END:DAYLIGHT
BEGIN:STANDARD
TZOFFSETFROM:-0400
TZOFFSETTO:-0500
TZNAME:EST
DTSTART:20261101T060000
END:STANDARD
BEGIN:DAYLIGHT
TZOFFSETFROM:-0500
TZOFFSETTO:-0400
TZNAME:EDT
DTSTART:20270314T070000
END:DAYLIGHT
BEGIN:STANDARD
TZOFFSETFROM:-0400
TZOFFSETTO:-0500
TZNAME:EST
DTSTART:20271107T060000
END:STANDARD
END:VTIMEZONE
BEGIN:VEVENT
DTSTART;TZID=America/New_York:20260218T140000
DTEND;TZID=America/New_York:20260218T160000
DTSTAMP:20260421T174054
CREATED:20260116T153003Z
LAST-MODIFIED:20260303T183548Z
UID:10000038-1771423200-1771430400@www.nationalilg.org
SUMMARY:From Awareness to Action: Suicide Prevention in the Workplace
DESCRIPTION:Join EARN for a webinar:\nVirtual Only \nSuicide impacts workplaces of all sizes and in all industries. Employers play a critical role in recognizing warning signs and connecting workers to support. In 2022\, 267 workplace fatalities occurred by suicide. These are not just statistics; they represent a preventable loss of life that affects colleagues\, families\, and the entire organization. While broader mental health conversations are important\, workplaces can benefit from learning more about this important topic. \nOrganizations that adopt proactive approaches to mental health and suicide prevention build stronger\, more resilient teams. Recent data show that 76% of U.S. workers report experiencing at least one symptom of a mental health condition in the past year. Employers can take meaningful steps to support their workforce and create environments that encourage early intervention and access to care. \nJoin the Employer Assistance and Resource Network on Disability (EARN) and National Alliance on Mental Illness (NAMI) for a free\, informative webinar on practical strategies for implementing suicide prevention efforts in your workplace. \nWhat You Will Learn: \n– Key insights into suicide warning signs\, including specific verbal\, behavioral\, and situational red flags.\n– Effective strategies for intervening and communicating with a person at risk and connecting them to professional help.\n– Practical steps for fostering a work environment that reduces risk factors and promotes help-seeking behaviors. \nMeeting Speakers: \nAshley Bryant\, LPC; Extension Associate\, Yang-Tan Institute on Employment and Disability; Megan Delp\, PsyD LMFT; Director of Workplace Mental Health\, NAMI \nREGISTER NOW >>
URL:https://www.nationalilg.org/event/from-awareness-to-action-suicide-prevention-in-the-workplace/
LOCATION:Virtual
CATEGORIES:CALENDAR SUBMISSIONS,Greater ILGs & Partnership - Event Calendar,Past Webinars (WEB ADMIN ONLY PLEASE)
ATTACH;FMTTYPE=image/jpeg:https://www.nationalilg.org/wp-content/uploads/2025/09/EARN-1-scaled.jpg
END:VEVENT
END:VCALENDAR